BEGIN:VCALENDAR
VERSION:2.0
PRODID:-//hacksw/handcal//NONSGML v1.0//EN
CALSCALE:GREGORIAN
BEGIN:VEVENT
LOCATION:1 Rue René de Girardin 60950 Ermenonville
DESCRIPTION:@Aquilon
DTSTART:20260606T141500
DTEND:20260606T163000
SUMMARY:A la découverte du parc Jean-Jacques Rousseau
URL;VALUE=URI:https://www.parc-oise-paysdefrance.fr/agenda/a-la-decouverte-du-parc-jean-jacques-rousseau/
DTSTAMP:20260424T193552
UID:69ebc618f0578
END:VEVENT
END:VCALENDAR