BEGIN:VCALENDAR
VERSION:2.0
PRODID:-//hacksw/handcal//NONSGML v1.0//EN
CALSCALE:GREGORIAN
BEGIN:VEVENT
LOCATION:18 rue Louis Boilet 60700 PONT-SAINTE-MAXENCE
DESCRIPTION:Dans le cadre de Mai à Vélo, l’Office de Tourisme vous propose une balade familiale...
DTSTART:20260523T140000
DTEND:20260523T170000
SUMMARY:À Vélo sur les Voies Vertes : Entre lavoirs, étangs et villages de caractère
URL;VALUE=URI:https://www.parc-oise-paysdefrance.fr/agenda/a-velo-sur-les-voies-vertes-entre-lavoirs-etangs-et-villages-de-caractere/
DTSTAMP:20260424T205429
UID:69ebd885f41df
END:VEVENT
END:VCALENDAR