BEGIN:VCALENDAR
VERSION:2.0
PRODID:-//hacksw/handcal//NONSGML v1.0//EN
CALSCALE:GREGORIAN
BEGIN:VEVENT
LOCATION:
DESCRIPTION:Sylvain Drocourt, pomologue, propose une démonstration de taille en vert, mais pas seulement. Le programme...
DTSTART:20260531T141500
DTEND:20260531T163000
SUMMARY:Arbres fruitiers palissés : formation à la taille « en vert »
URL;VALUE=URI:https://www.parc-oise-paysdefrance.fr/agenda/arbres-fruitiers-palisses-formation-a-la-taille-en-vert/
DTSTAMP:20260424T193709
UID:69ebc66571692
END:VEVENT
END:VCALENDAR