BEGIN:VCALENDAR
VERSION:2.0
PRODID:-//hacksw/handcal//NONSGML v1.0//EN
CALSCALE:GREGORIAN
BEGIN:VEVENT
LOCATION:60700 PONTPOINT
DESCRIPTION:Laissez-vous tenter par une escapade savoureuse et chaleureuse au cœur de Pontpoint ! Cette balade...
DTSTART:20260606T140000
DTEND:20260606T170000
SUMMARY:Balade gourmande
URL;VALUE=URI:https://www.parc-oise-paysdefrance.fr/agenda/balade-gourmande/
DTSTAMP:20260424T193849
UID:69ebc6c91ca6d
END:VEVENT
END:VCALENDAR