BEGIN:VCALENDAR
VERSION:2.0
PRODID:-//hacksw/handcal//NONSGML v1.0//EN
CALSCALE:GREGORIAN
BEGIN:VEVENT
LOCATION:10 Rue du Cimetière Saint-rieul 60300 Senlis
DESCRIPTION:Le film « La ferme derrière chez moi », d’Elsa Théry raconte la transmission de...
DTSTART:20260529T183000
DTEND:20260529T213000
SUMMARY:Ciné débat « La ferme derrière chez moi »
URL;VALUE=URI:https://www.parc-oise-paysdefrance.fr/agenda/cine-debat-la-ferme-derriere-chez-moi/
DTSTAMP:20260424T193547
UID:69ebc613c681b
END:VEVENT
END:VCALENDAR