BEGIN:VCALENDAR
VERSION:2.0
PRODID:-//hacksw/handcal//NONSGML v1.0//EN
CALSCALE:GREGORIAN
BEGIN:VEVENT
LOCATION:15 Rue du Grand Tremblay 95470 Fosses
DESCRIPTION:Entre soleil et ombre, champs ouverts, forêts et petits villages, laissez-vous guider de part et...
DTSTART:20260705T091500
DTEND:20260705T163000
SUMMARY:De Fosses à Bellefontaine, marchons en Pays-de-France
URL;VALUE=URI:https://www.parc-oise-paysdefrance.fr/agenda/de-fosses-a-bellefontaine-marchons-en-pays-de-france/
DTSTAMP:20260424T193720
UID:69ebc67087e21
END:VEVENT
END:VCALENDAR