BEGIN:VCALENDAR
VERSION:2.0
PRODID:-//hacksw/handcal//NONSGML v1.0//EN
CALSCALE:GREGORIAN
BEGIN:VEVENT
LOCATION:Voie Communale de la Loge 60580 Coye-la-Forêt
DESCRIPTION:Les étangs de Commelles offrent un décor idéal pour s’initier (ou se perfectionner) à l’observation...
DTSTART:20260425T100000
DTEND:20260425T120000
SUMMARY:Découverte des oiseaux des étangs de Commelles
URL;VALUE=URI:https://www.parc-oise-paysdefrance.fr/agenda/decouverte-des-oiseaux-des-etangs-de-commelles/
DTSTAMP:20260424T193848
UID:69ebc6c85ec83
END:VEVENT
END:VCALENDAR