BEGIN:VCALENDAR
VERSION:2.0
PRODID:-//hacksw/handcal//NONSGML v1.0//EN
CALSCALE:GREGORIAN
BEGIN:VEVENT
LOCATION:8bis Rue des Sablons 95270 Bellefontaine
DESCRIPTION:Delphine Bourra, herboriste paysanne, vous propose une balade sensorielle à la découverte des plantes sauvages,...
DTSTART:20260628T093000
DTEND:20260628T114500
SUMMARY:Des plantes sauvages aux mille vertus
URL;VALUE=URI:https://www.parc-oise-paysdefrance.fr/agenda/des-plantes-sauvages-aux-mille-vertus/
DTSTAMP:20260424T193709
UID:69ebc66594ff4
END:VEVENT
END:VCALENDAR