BEGIN:VCALENDAR
VERSION:2.0
PRODID:-//hacksw/handcal//NONSGML v1.0//EN
CALSCALE:GREGORIAN
BEGIN:VEVENT
LOCATION:Forêt d'Halatte, 60700 PONT-SAINTE-MAXENCE
DESCRIPTION:L’Agrion de l’Oise vous invite découvrir les mares et fontaines qui parsèment la forêt d’Halatte....
DTSTART:20260613T143000
DTEND:20260613T173000
SUMMARY:En passant par les mares et fontaines de la forêt d’Halatte
URL;VALUE=URI:https://www.parc-oise-paysdefrance.fr/agenda/en-passant-par-les-mares-et-fontaines-de-la-foret-dhalatte/
DTSTAMP:20260424T194025
UID:69ebc729ddc60
END:VEVENT
END:VCALENDAR