BEGIN:VCALENDAR
VERSION:2.0
PRODID:-//hacksw/handcal//NONSGML v1.0//EN
CALSCALE:GREGORIAN
BEGIN:VEVENT
LOCATION:48 Rue d'Hérivaux 60560 Orry-la-Ville
DESCRIPTION:Venez rencontrer les Producteurs Oise-Pays de France et découvrez leurs savoureux produits locaux et de...
DTSTART:20260905T100000
DTEND:20260906T180000
SUMMARY:Fête du terroir
URL;VALUE=URI:https://www.parc-oise-paysdefrance.fr/agenda/fete-du-terroir/
DTSTAMP:20260424T193521
UID:69ebc5f9b57d7
END:VEVENT
END:VCALENDAR