BEGIN:VCALENDAR
VERSION:2.0
PRODID:-//hacksw/handcal//NONSGML v1.0//EN
CALSCALE:GREGORIAN
BEGIN:VEVENT
LOCATION:4 Rue des Sablons 95270 Bellefontaine
DESCRIPTION:Venez découvrir l’exploitation agricole Hervin–La Belle asperge, spécialisée dans la culture de l’asperge. Cette ferme...
DTSTART:20260523T143000
DTEND:20260523T163000
SUMMARY:La belle asperge : découverte d’une production locale
URL;VALUE=URI:https://www.parc-oise-paysdefrance.fr/agenda/la-belle-asperge-decouverte-dune-production-locale/
DTSTAMP:20260424T193548
UID:69ebc61418069
END:VEVENT
END:VCALENDAR