BEGIN:VCALENDAR
VERSION:2.0
PRODID:-//hacksw/handcal//NONSGML v1.0//EN
CALSCALE:GREGORIAN
BEGIN:VEVENT
LOCATION:Montlognon
DESCRIPTION:Rivières et étangs sont source d’inspiration pour les artistes, peintres ou écrivains. Ils en ont...
DTSTART:20260607T140000
DTEND:20260607T170000
SUMMARY:La rivière Nonette, source d’inspiration
URL;VALUE=URI:https://www.parc-oise-paysdefrance.fr/agenda/la-riviere-nonette-source-dinspiration/
DTSTAMP:20260424T193414
UID:69ebc5b64c714
END:VEVENT
END:VCALENDAR