BEGIN:VCALENDAR
VERSION:2.0
PRODID:-//hacksw/handcal//NONSGML v1.0//EN
CALSCALE:GREGORIAN
BEGIN:VEVENT
LOCATION:Rue Michel Blere 60260 Lamorlaye
DESCRIPTION:Lamorlaye vous invite à un passionnant voyage à travers les siècles. Connue pour ses activités...
DTSTART:20260718T141500
DTEND:20260718T160000
SUMMARY:Le cœur historique de Lamorlaye
URL;VALUE=URI:https://www.parc-oise-paysdefrance.fr/agenda/le-coeur-historique-de-lamorlaye/
DTSTAMP:20260424T193526
UID:69ebc5fe9aa81
END:VEVENT
END:VCALENDAR