BEGIN:VCALENDAR
VERSION:2.0
PRODID:-//hacksw/handcal//NONSGML v1.0//EN
CALSCALE:GREGORIAN
BEGIN:VEVENT
LOCATION:Domaine de Chaalis 60300 Fontaine-Chaalis
DESCRIPTION:C’est une immersion dans le monde de la nuit que vous proposent le Parc naturel...
DTSTART:20260829T203000
DTEND:20260829T224500
SUMMARY:Le petit monde de la nuit : chauve-souris et ciel étoilé
URL;VALUE=URI:https://www.parc-oise-paysdefrance.fr/agenda/le-petit-monde-de-la-nuit-chauve-souris-et-ciel-etoile/
DTSTAMP:20260424T165514
UID:69eba0723dd67
END:VEVENT
END:VCALENDAR