BEGIN:VCALENDAR
VERSION:2.0
PRODID:-//hacksw/handcal//NONSGML v1.0//EN
CALSCALE:GREGORIAN
BEGIN:VEVENT
LOCATION:Parking de la Trans'Oise - Ferme de l’Évêché (en direction de la zone Moru-Pontpoint),60700 PONT-SAINTE-MAXENCE
DESCRIPTION:Un animateur de l’Entente Oise-Aisne vous accompagnera pour une visite guidée unique au cœur des...
DTSTART:20260520T090000
DTEND:20260520T110000
SUMMARY:Le retour des oiseaux migrateurs à la réserve écologique de l’Ois’eau
URL;VALUE=URI:https://www.parc-oise-paysdefrance.fr/agenda/le-retour-des-oiseaux-migrateurs-a-la-reserve-ecologique-de-loiseau/
DTSTAMP:20260424T195845
UID:69ebcb756df4b
END:VEVENT
END:VCALENDAR