BEGIN:VCALENDAR
VERSION:2.0
PRODID:-//hacksw/handcal//NONSGML v1.0//EN
CALSCALE:GREGORIAN
BEGIN:VEVENT
LOCATION:48 Rue d'Hérivaux 60560 Orry-la-Ville
DESCRIPTION:Pourquoi ne pas oser … et partir à la rencontre des araignées, ces mal aimées...
DTSTART:20260613T141500
DTEND:20260613T163000
SUMMARY:Les araignées : même pas peur !
URL;VALUE=URI:https://www.parc-oise-paysdefrance.fr/agenda/les-araignees-meme-pas-peur/
DTSTAMP:20260424T193521
UID:69ebc5f99cace
END:VEVENT
END:VCALENDAR