BEGIN:VCALENDAR
VERSION:2.0
PRODID:-//hacksw/handcal//NONSGML v1.0//EN
CALSCALE:GREGORIAN
BEGIN:VEVENT
LOCATION:Voie Communale de la Loge 60580 Coye-la-Forêt
DESCRIPTION:Annie Ocana, guide de Parc, vous donne rendez-vous, dès l’aube, aux étangs de Commelles afin...
DTSTART:20260614T050000
DTEND:20260614T080000
SUMMARY:L’éveil de la forêt aux premiers rayons du soleil
URL;VALUE=URI:https://www.parc-oise-paysdefrance.fr/agenda/leveil-de-la-foret-aux-premiers-rayons-du-soleil/
DTSTAMP:20260424T193547
UID:69ebc613aea7b
END:VEVENT
END:VCALENDAR