BEGIN:VCALENDAR
VERSION:2.0
PRODID:-//hacksw/handcal//NONSGML v1.0//EN
CALSCALE:GREGORIAN
BEGIN:VEVENT
LOCATION:24 Grande rue 95470 Survilliers
DESCRIPTION:Venez découvrir la Cartoucherie Française à travers son patrimoine industriel ! Machines anciennes, outils, documents,...
DTSTART:20260719T140000
DTEND:20260719T180000
SUMMARY:Ouverture et visite guidée de l’écomusée de la Cartoucherie
URL;VALUE=URI:https://www.parc-oise-paysdefrance.fr/agenda/ouverture-et-visite-guidee-de-lecomusee-de-la-cartoucherie/
DTSTAMP:20260424T205430
UID:69ebd8868129d
END:VEVENT
END:VCALENDAR