BEGIN:VCALENDAR
VERSION:2.0
PRODID:-//hacksw/handcal//NONSGML v1.0//EN
CALSCALE:GREGORIAN
BEGIN:VEVENT
LOCATION:24 Grande rue 95470 Survilliers
DESCRIPTION:Venez découvrir la Cartoucherie Française à travers son patrimoine industriel ! Machines anciennes, outils, documents,...
DTSTART:20260802T140000
DTEND:20260802T180000
SUMMARY:Ouverture & visite guidée de l’écomusée de la Cartoucherie
URL;VALUE=URI:https://www.parc-oise-paysdefrance.fr/agenda/ouverture-visite-guidee-de-lecomusee-de-la-cartoucherie-4/
DTSTAMP:20260424T193859
UID:69ebc6d35f7e7
END:VEVENT
END:VCALENDAR