BEGIN:VCALENDAR
VERSION:2.0
PRODID:-//hacksw/handcal//NONSGML v1.0//EN
CALSCALE:GREGORIAN
BEGIN:VEVENT
LOCATION:Place de Numbrecht 60270 Gouvieux
DESCRIPTION:Du Mont César aux moulins à blés, des habitats troglodytes à l’embouchure de la Nonette,...
DTSTART:20260829T084500
DTEND:20260829T120000
SUMMARY:Randonnée de Gouvieux
URL;VALUE=URI:https://www.parc-oise-paysdefrance.fr/agenda/randonnee-de-gouvieux/
DTSTAMP:20260424T193527
UID:69ebc5ff5eaba
END:VEVENT
END:VCALENDAR