BEGIN:VCALENDAR
VERSION:2.0
PRODID:-//hacksw/handcal//NONSGML v1.0//EN
CALSCALE:GREGORIAN
BEGIN:VEVENT
LOCATION:Rue de Verdun 95270 Noisy-sur-Oise
DESCRIPTION:Enfourchez votre vélo et partez pour une randonnée gourmande de ferme en ferme, l’occasion de...
DTSTART:20260620T090000
DTEND:20260620T170000
SUMMARY:Randonnée gourmande Carnelloise à vélo
URL;VALUE=URI:https://www.parc-oise-paysdefrance.fr/agenda/randonnee-gourmande-carnelloise-a-velo/
DTSTAMP:20260424T193526
UID:69ebc5fed922d
END:VEVENT
END:VCALENDAR