BEGIN:VCALENDAR
VERSION:2.0
PRODID:-//hacksw/handcal//NONSGML v1.0//EN
CALSCALE:GREGORIAN
BEGIN:VEVENT
LOCATION:Rue de la Baraque Chaâlis 60520 Thiers-sur-Thève
DESCRIPTION:En compagnie de Grégory Brouillard, guide de Parc, venez arpenter les coteaux sableux parsemés de...
DTSTART:20260726T084500
DTEND:20260726T120000
SUMMARY:Un air de Méditerranée en plein été !
URL;VALUE=URI:https://www.parc-oise-paysdefrance.fr/agenda/un-air-de-mediterranee-en-plein-ete/
DTSTAMP:20260424T193709
UID:69ebc665f04d6
END:VEVENT
END:VCALENDAR