BEGIN:VCALENDAR
VERSION:2.0
PRODID:-//hacksw/handcal//NONSGML v1.0//EN
CALSCALE:GREGORIAN
BEGIN:VEVENT
LOCATION:18 rue Louis Boilet 60700 PONT-SAINTE-MAXENCE
DESCRIPTION:Classée Monument historique depuis 1921, l’église Sainte-Maxence dévoile une architecture imposante, à la croisée du...
DTSTART:20260812T140000
DTEND:20260812T153000
SUMMARY:Visite de l’église Sainte Maxence et de son clocher
URL;VALUE=URI:https://www.parc-oise-paysdefrance.fr/agenda/visite-de-leglise-sainte-maxence-et-de-son-clocher/
DTSTAMP:20260424T193858
UID:69ebc6d2a4717
END:VEVENT
END:VCALENDAR