BEGIN:VCALENDAR
VERSION:2.0
PRODID:-//hacksw/handcal//NONSGML v1.0//EN
CALSCALE:GREGORIAN
BEGIN:VEVENT
LOCATION:60700 PONTPOINT
DESCRIPTION:Venez découvrir le fruit emblématique de l’été : la fraise. Les producteurs vous guideront à...
DTSTART:20260722T140000
DTEND:20260722T153000
SUMMARY:Visite des serres de fraises de Pontpoint
URL;VALUE=URI:https://www.parc-oise-paysdefrance.fr/agenda/visite-des-serres-de-fraises-de-pontpoint/
DTSTAMP:20260424T194025
UID:69ebc729a62c9
END:VEVENT
END:VCALENDAR