BEGIN:VCALENDAR
VERSION:2.0
PRODID:-//hacksw/handcal//NONSGML v1.0//EN
CALSCALE:GREGORIAN
BEGIN:VEVENT
LOCATION:
DESCRIPTION:Dans le cadre des Journées européennes de l’archéologie, partez à la découverte du temple gallo-romain...
DTSTART:20260620T100000
DTEND:20260620T113000
SUMMARY:Visite du temple d’Halatte
URL;VALUE=URI:https://www.parc-oise-paysdefrance.fr/agenda/visite-du-temple-dhalatte/
DTSTAMP:20260424T193848
UID:69ebc6c896f89
END:VEVENT
END:VCALENDAR