BEGIN:VCALENDAR
VERSION:2.0
PRODID:-//hacksw/handcal//NONSGML v1.0//EN
CALSCALE:GREGORIAN
BEGIN:VEVENT
LOCATION:60410 villeneuve-sur-verberie
DESCRIPTION:Laissez-vous séduire par l’authenticité de Villeneuve-sur-Verberie lors d’une visite guidée pleine de charme et de...
DTSTART:20260425T140000
DTEND:20260425T160000
SUMMARY:Visite du village de Villeneuve-sur-Verberie
URL;VALUE=URI:https://www.parc-oise-paysdefrance.fr/agenda/visite-du-village-de-villeneuve-sur-verberie/
DTSTAMP:20260424T194010
UID:69ebc71a92df5
END:VEVENT
END:VCALENDAR